BEGIN:VCALENDAR
VERSION:2.0
PRODID:-//GGS Erkrath - ECPv4.9.8//NONSGML v1.0//EN
CALSCALE:GREGORIAN
METHOD:PUBLISH
X-WR-CALNAME:GGS Erkrath
X-ORIGINAL-URL:http://cms.ggs-erkrath.de
X-WR-CALDESC:Veranstaltungen im GGS Erkrath
BEGIN:VTIMEZONE
TZID:Europe/Berlin
BEGIN:DAYLIGHT
TZOFFSETFROM:+0100
TZOFFSETTO:+0200
TZNAME:CEST
DTSTART:20240331T010000
END:DAYLIGHT
BEGIN:STANDARD
TZOFFSETFROM:+0200
TZOFFSETTO:+0100
TZNAME:CET
DTSTART:20241027T010000
END:STANDARD
END:VTIMEZONE
BEGIN:VEVENT
DTSTART;TZID="Europe/Berlin":20240822T104500
DTEND;TZID="Europe/Berlin":20240822T120000
DTSTAMP:20260425T200947
CREATED:20240818T140857Z
LAST-MODIFIED:20240822T054545Z
UID:11060-1724323500-1724328000@cms.ggs-erkrath.de
SUMMARY:Einschulung SJ 24_25
DESCRIPTION:Für beide Standorte: \n\nEinschulungsgottesdienst  9:30 – 10:15 Uhr ev. Kirche Erkrath (Bahnstraße)\n\nStandort Falkenstraße: \n\nBeginn Feier: 10:45 Uhr in der Aula des Standorts Falkenstraße\n1.Unterrichtsstunde 1.Klässler  ca. 11:30 – 12:00Uhr\n\nStandort Düsselstraße: \n\nBeginn Feier: 10:45 Uhr in der Turnhalle des Standorts Düsselstraße\n1.Unterrichtsstunde 1.Klässler  ca. 11:30 – 12:00Uhr\n\n  \n
URL:http://cms.ggs-erkrath.de/event/einschulung-sj-24_25/
END:VEVENT
END:VCALENDAR