BEGIN:VCALENDAR
VERSION:2.0
PRODID:-//GGS Erkrath - ECPv4.9.8//NONSGML v1.0//EN
CALSCALE:GREGORIAN
METHOD:PUBLISH
X-WR-CALNAME:GGS Erkrath
X-ORIGINAL-URL:http://cms.ggs-erkrath.de
X-WR-CALDESC:Veranstaltungen im GGS Erkrath
BEGIN:VTIMEZONE
TZID:Europe/Berlin
BEGIN:DAYLIGHT
TZOFFSETFROM:+0100
TZOFFSETTO:+0200
TZNAME:CEST
DTSTART:20250330T010000
END:DAYLIGHT
BEGIN:STANDARD
TZOFFSETFROM:+0200
TZOFFSETTO:+0100
TZNAME:CET
DTSTART:20251026T010000
END:STANDARD
END:VTIMEZONE
BEGIN:VEVENT
DTSTART;TZID="Europe/Berlin":20250220T080000
DTEND;TZID="Europe/Berlin":20250220T170000
DTSTAMP:20260423T140701
CREATED:20250123T140913Z
LAST-MODIFIED:20250123T140913Z
UID:11230-1740038400-1740070800@cms.ggs-erkrath.de
SUMMARY:Klassenpflegschaft Kl. 4 Dü
DESCRIPTION:
URL:http://cms.ggs-erkrath.de/event/klassenpflegschaft-kl-4-due/
LOCATION:Teilstandort Düsselstrasse\, Düsselstrasse 27\, Erkrath\, 40699\, Deutschland
END:VEVENT
BEGIN:VEVENT
DTSTART;TZID="Europe/Berlin":20250220T084500
DTEND;TZID="Europe/Berlin":20250220T110000
DTSTAMP:20260423T140701
CREATED:20250116T075448Z
LAST-MODIFIED:20250116T075448Z
UID:11170-1740041100-1740049200@cms.ggs-erkrath.de
SUMMARY:Mein Körper gehört mir Teil 2 - Kl. 4
DESCRIPTION:
URL:http://cms.ggs-erkrath.de/event/mein-koerper-gehoert-mir-teil-2-kl-4/
END:VEVENT
END:VCALENDAR