BEGIN:VCALENDAR
VERSION:2.0
PRODID:-//GGS Erkrath - ECPv4.9.8//NONSGML v1.0//EN
CALSCALE:GREGORIAN
METHOD:PUBLISH
X-WR-CALNAME:GGS Erkrath
X-ORIGINAL-URL:https://cms.ggs-erkrath.de
X-WR-CALDESC:Veranstaltungen im GGS Erkrath
BEGIN:VTIMEZONE
TZID:Europe/Berlin
BEGIN:DAYLIGHT
TZOFFSETFROM:+0100
TZOFFSETTO:+0200
TZNAME:CEST
DTSTART:20240331T010000
END:DAYLIGHT
BEGIN:STANDARD
TZOFFSETFROM:+0200
TZOFFSETTO:+0100
TZNAME:CET
DTSTART:20241027T010000
END:STANDARD
END:VTIMEZONE
BEGIN:VEVENT
DTSTART;TZID="Europe/Berlin":20240705T090000
DTEND;TZID="Europe/Berlin":20240705T103000
DTSTAMP:20260422T184229
CREATED:20230803T151543Z
LAST-MODIFIED:20230803T151543Z
UID:10781-1720170000-1720175400@cms.ggs-erkrath.de
SUMMARY:Abschlussfeier an beiden Standorten
DESCRIPTION:
URL:https://cms.ggs-erkrath.de/event/abschlussfeier-an-beiden-standorten/
END:VEVENT
END:VCALENDAR