BEGIN:VCALENDAR
VERSION:2.0
PRODID:-//GGS Erkrath - ECPv4.9.8//NONSGML v1.0//EN
CALSCALE:GREGORIAN
METHOD:PUBLISH
X-WR-CALNAME:GGS Erkrath
X-ORIGINAL-URL:https://cms.ggs-erkrath.de
X-WR-CALDESC:Veranstaltungen im GGS Erkrath
BEGIN:VTIMEZONE
TZID:Europe/Berlin
BEGIN:DAYLIGHT
TZOFFSETFROM:+0100
TZOFFSETTO:+0200
TZNAME:CEST
DTSTART:20200329T010000
END:DAYLIGHT
BEGIN:STANDARD
TZOFFSETFROM:+0200
TZOFFSETTO:+0100
TZNAME:CET
DTSTART:20201025T010000
END:STANDARD
END:VTIMEZONE
BEGIN:VEVENT
DTSTART;TZID="Europe/Berlin":20200527T080000
DTEND;TZID="Europe/Berlin":20200527T120000
DTSTAMP:20260422T104205
CREATED:20180916T114123Z
LAST-MODIFIED:20190922T183246Z
UID:8572-1590566400-1590580800@cms.ggs-erkrath.de
SUMMARY:Ausweichtermin Sport- und Spielefest)
DESCRIPTION:NUR wenn am 29.05.2019 schlechtes Wetter ist. \nToni Turek Stadion \nWir treffen uns direkt am Sportplatz. \nFrühaufsicht am Sportplatz ab 7:30 Uhr \nOGS 8beide Standorte) und Betreuung finden wie gewohnt statt. \n
URL:https://cms.ggs-erkrath.de/event/ausweichtermin-sport-und-spielefest/
END:VEVENT
END:VCALENDAR