BEGIN:VCALENDAR
VERSION:2.0
PRODID:-//GGS Erkrath - ECPv4.9.8//NONSGML v1.0//EN
CALSCALE:GREGORIAN
METHOD:PUBLISH
X-WR-CALNAME:GGS Erkrath
X-ORIGINAL-URL:https://cms.ggs-erkrath.de
X-WR-CALDESC:Veranstaltungen im GGS Erkrath
BEGIN:VTIMEZONE
TZID:Europe/Berlin
BEGIN:DAYLIGHT
TZOFFSETFROM:+0100
TZOFFSETTO:+0200
TZNAME:CEST
DTSTART:20200329T010000
END:DAYLIGHT
BEGIN:STANDARD
TZOFFSETFROM:+0200
TZOFFSETTO:+0100
TZNAME:CET
DTSTART:20201025T010000
END:STANDARD
END:VTIMEZONE
BEGIN:VEVENT
DTSTART;VALUE=DATE:20200522
DTEND;VALUE=DATE:20200523
DTSTAMP:20260422T103249
CREATED:20180916T104517Z
LAST-MODIFIED:20190922T182955Z
UID:8530-1590105600-1590191999@cms.ggs-erkrath.de
SUMMARY:Beweglicher Ferientag
DESCRIPTION:OGS (beide Standorte) GEÖFFNET! \nBetreuung GESCHLOSSEN! \n
URL:https://cms.ggs-erkrath.de/event/beweglicher-ferientag-2/
END:VEVENT
END:VCALENDAR