BEGIN:VCALENDAR
VERSION:2.0
PRODID:-//GGS Erkrath - ECPv4.9.8//NONSGML v1.0//EN
CALSCALE:GREGORIAN
METHOD:PUBLISH
X-WR-CALNAME:GGS Erkrath
X-ORIGINAL-URL:https://cms.ggs-erkrath.de
X-WR-CALDESC:Veranstaltungen im GGS Erkrath
BEGIN:VTIMEZONE
TZID:Europe/Berlin
BEGIN:DAYLIGHT
TZOFFSETFROM:+0100
TZOFFSETTO:+0200
TZNAME:CEST
DTSTART:20230326T010000
END:DAYLIGHT
BEGIN:STANDARD
TZOFFSETFROM:+0200
TZOFFSETTO:+0100
TZNAME:CET
DTSTART:20231029T010000
END:STANDARD
END:VTIMEZONE
BEGIN:VEVENT
DTSTART;VALUE=DATE:20230808
DTEND;VALUE=DATE:20230809
DTSTAMP:20260422T165923
CREATED:20230418T141926Z
LAST-MODIFIED:20230803T143918Z
UID:10614-1691452800-1691539199@cms.ggs-erkrath.de
SUMMARY:Einschulung der Schulneulinge 23/24
DESCRIPTION:Ökomenischer Gottesdienst: 9 – 9:30 Uhr \nFalkenstraße : Aula 10:00 – 10:45 Uhr\, danach findet die erste Unterrichtsstunde statt 10:45 – 11:30 Uhr \nDüsselstraße: Turnhalle 10:00 – 11:00 Uhr\, danach findet die erste Unterrichtsstunde statt 11:00 – 11:45 Uhr \n  \n
URL:https://cms.ggs-erkrath.de/event/einschulung-der-schulneulinge-23-24/
END:VEVENT
END:VCALENDAR