BEGIN:VCALENDAR
VERSION:2.0
PRODID:-//GGS Erkrath - ECPv4.9.8//NONSGML v1.0//EN
CALSCALE:GREGORIAN
METHOD:PUBLISH
X-WR-CALNAME:GGS Erkrath
X-ORIGINAL-URL:https://cms.ggs-erkrath.de
X-WR-CALDESC:Veranstaltungen im GGS Erkrath
BEGIN:VTIMEZONE
TZID:Europe/Berlin
BEGIN:DAYLIGHT
TZOFFSETFROM:+0100
TZOFFSETTO:+0200
TZNAME:CEST
DTSTART:20220327T010000
END:DAYLIGHT
BEGIN:STANDARD
TZOFFSETFROM:+0200
TZOFFSETTO:+0100
TZNAME:CET
DTSTART:20221030T010000
END:STANDARD
END:VTIMEZONE
BEGIN:VEVENT
DTSTART;VALUE=DATE:20220823
DTEND;VALUE=DATE:20220824
DTSTAMP:20260422T163616
CREATED:20220809T143214Z
LAST-MODIFIED:20220817T191616Z
UID:10280-1661212800-1661299199@cms.ggs-erkrath.de
SUMMARY:Elternabend M 1-3 c  Fa
DESCRIPTION:
URL:https://cms.ggs-erkrath.de/event/elternabend-m-1-3-c-fa/
LOCATION:Hauptstandort Falkenstrasse\, Falkenstrasse 35\, Erkrath\, 40699\, Deutschland
END:VEVENT
END:VCALENDAR