BEGIN:VCALENDAR
VERSION:2.0
PRODID:-//GGS Erkrath - ECPv4.9.8//NONSGML v1.0//EN
CALSCALE:GREGORIAN
METHOD:PUBLISH
X-WR-CALNAME:GGS Erkrath
X-ORIGINAL-URL:https://cms.ggs-erkrath.de
X-WR-CALDESC:Veranstaltungen im GGS Erkrath
BEGIN:VTIMEZONE
TZID:Europe/Berlin
BEGIN:DAYLIGHT
TZOFFSETFROM:+0100
TZOFFSETTO:+0200
TZNAME:CEST
DTSTART:20220327T010000
END:DAYLIGHT
BEGIN:STANDARD
TZOFFSETFROM:+0200
TZOFFSETTO:+0100
TZNAME:CET
DTSTART:20221030T010000
END:STANDARD
END:VTIMEZONE
BEGIN:VEVENT
DTSTART;TZID="Europe/Berlin":20220824T190000
DTEND;TZID="Europe/Berlin":20220824T210000
DTSTAMP:20260422T132140
CREATED:20220817T191808Z
LAST-MODIFIED:20220817T191808Z
UID:10337-1661367600-1661374800@cms.ggs-erkrath.de
SUMMARY:Elternabend M4a
DESCRIPTION:
URL:https://cms.ggs-erkrath.de/event/elternabend-m4a/
LOCATION:Hauptstandort Falkenstrasse\, Falkenstrasse 35\, Erkrath\, 40699\, Deutschland
END:VEVENT
END:VCALENDAR