BEGIN:VCALENDAR
VERSION:2.0
PRODID:-//GGS Erkrath - ECPv4.9.8//NONSGML v1.0//EN
CALSCALE:GREGORIAN
METHOD:PUBLISH
X-WR-CALNAME:GGS Erkrath
X-ORIGINAL-URL:https://cms.ggs-erkrath.de
X-WR-CALDESC:Veranstaltungen im GGS Erkrath
BEGIN:VTIMEZONE
TZID:Europe/Berlin
BEGIN:DAYLIGHT
TZOFFSETFROM:+0100
TZOFFSETTO:+0200
TZNAME:CEST
DTSTART:20200329T010000
END:DAYLIGHT
BEGIN:STANDARD
TZOFFSETFROM:+0200
TZOFFSETTO:+0100
TZNAME:CET
DTSTART:20201025T010000
END:STANDARD
END:VTIMEZONE
BEGIN:VEVENT
DTSTART;TZID="Europe/Berlin":20200922T190000
DTEND;TZID="Europe/Berlin":20200922T203000
DTSTAMP:20260422T092404
CREATED:20200809T181908Z
LAST-MODIFIED:20200831T080057Z
UID:9310-1600801200-1600806600@cms.ggs-erkrath.de
SUMMARY:Elterninfoabend Standort Düsselstraße Schulneulinge 21/22 Entfällt wegen CORONA-Pandemie!
DESCRIPTION:Entfällt wegen CORONA-Pandemie! \n
URL:https://cms.ggs-erkrath.de/event/elterninfoabend-standort-duesselstrasse-schulneulinge-21-22/
END:VEVENT
END:VCALENDAR