BEGIN:VCALENDAR
VERSION:2.0
PRODID:-//GGS Erkrath - ECPv4.9.8//NONSGML v1.0//EN
CALSCALE:GREGORIAN
METHOD:PUBLISH
X-WR-CALNAME:GGS Erkrath
X-ORIGINAL-URL:https://cms.ggs-erkrath.de
X-WR-CALDESC:Veranstaltungen im GGS Erkrath
BEGIN:VTIMEZONE
TZID:Europe/Berlin
BEGIN:DAYLIGHT
TZOFFSETFROM:+0100
TZOFFSETTO:+0200
TZNAME:CEST
DTSTART:20210328T010000
END:DAYLIGHT
BEGIN:STANDARD
TZOFFSETFROM:+0200
TZOFFSETTO:+0100
TZNAME:CET
DTSTART:20211031T010000
END:STANDARD
END:VTIMEZONE
BEGIN:VEVENT
DTSTART;TZID="Europe/Berlin":20211116T080000
DTEND;TZID="Europe/Berlin":20211126T170000
DTSTAMP:20260424T101830
CREATED:20210906T110421Z
LAST-MODIFIED:20210906T110421Z
UID:9950-1637049600-1637946000@cms.ggs-erkrath.de
SUMMARY:Elternsprechwoche  Klassen 1 - 3
DESCRIPTION:Terminabsprache erfolgt individuell mit Klassenlehrer/in \n
URL:https://cms.ggs-erkrath.de/event/elternsprechwoche-klassen-1-3/
END:VEVENT
END:VCALENDAR