BEGIN:VCALENDAR
VERSION:2.0
PRODID:-//GGS Erkrath - ECPv4.9.8//NONSGML v1.0//EN
CALSCALE:GREGORIAN
METHOD:PUBLISH
X-WR-CALNAME:GGS Erkrath
X-ORIGINAL-URL:https://cms.ggs-erkrath.de
X-WR-CALDESC:Veranstaltungen im GGS Erkrath
BEGIN:VTIMEZONE
TZID:Europe/Berlin
BEGIN:DAYLIGHT
TZOFFSETFROM:+0100
TZOFFSETTO:+0200
TZNAME:CEST
DTSTART:20230326T010000
END:DAYLIGHT
BEGIN:STANDARD
TZOFFSETFROM:+0200
TZOFFSETTO:+0100
TZNAME:CET
DTSTART:20231029T010000
END:STANDARD
END:VTIMEZONE
BEGIN:VEVENT
DTSTART;TZID="Europe/Berlin":20230602T143000
DTEND;TZID="Europe/Berlin":20230602T190000
DTSTAMP:20260422T134524
CREATED:20230418T141457Z
LAST-MODIFIED:20230418T141457Z
UID:10600-1685716200-1685732400@cms.ggs-erkrath.de
SUMMARY:Fußballturnier der Erkrather Grundschulen
DESCRIPTION:
URL:https://cms.ggs-erkrath.de/event/fussballturnier-der-erkrather-grundschulen/
LOCATION:Sportplatz Grünstraße Hochdahl
END:VEVENT
END:VCALENDAR