BEGIN:VCALENDAR
VERSION:2.0
PRODID:-//GGS Erkrath - ECPv4.9.8//NONSGML v1.0//EN
CALSCALE:GREGORIAN
METHOD:PUBLISH
X-WR-CALNAME:GGS Erkrath
X-ORIGINAL-URL:https://cms.ggs-erkrath.de
X-WR-CALDESC:Veranstaltungen im GGS Erkrath
BEGIN:VTIMEZONE
TZID:Europe/Berlin
BEGIN:DAYLIGHT
TZOFFSETFROM:+0100
TZOFFSETTO:+0200
TZNAME:CEST
DTSTART:20210328T010000
END:DAYLIGHT
BEGIN:STANDARD
TZOFFSETFROM:+0200
TZOFFSETTO:+0100
TZNAME:CET
DTSTART:20211031T010000
END:STANDARD
END:VTIMEZONE
BEGIN:VEVENT
DTSTART;TZID="Europe/Berlin":20210927T080000
DTEND;TZID="Europe/Berlin":20210927T170000
DTSTAMP:20260422T134800
CREATED:20210906T105814Z
LAST-MODIFIED:20210906T105814Z
UID:9938-1632729600-1632762000@cms.ggs-erkrath.de
SUMMARY:Ganztägige FOBI Kollegium
DESCRIPTION:Durch die Schulkonferenz genehmigte Ganztagskonferenz des gesamten Kollegiums \nKein Unterricht – Selbstlerntag \nOGS (Falken- und Düsselstraße) und Betreuung (Falkenstraße) finden nach Voranmeldung statt (Abfrage durch Brief) \n
URL:https://cms.ggs-erkrath.de/event/ganztaegige-fobi-kollegium/
END:VEVENT
END:VCALENDAR