BEGIN:VCALENDAR
VERSION:2.0
PRODID:-//GGS Erkrath - ECPv4.9.8//NONSGML v1.0//EN
CALSCALE:GREGORIAN
METHOD:PUBLISH
X-WR-CALNAME:GGS Erkrath
X-ORIGINAL-URL:https://cms.ggs-erkrath.de
X-WR-CALDESC:Veranstaltungen im GGS Erkrath
BEGIN:VTIMEZONE
TZID:Europe/Berlin
BEGIN:DAYLIGHT
TZOFFSETFROM:+0100
TZOFFSETTO:+0200
TZNAME:CEST
DTSTART:20240331T010000
END:DAYLIGHT
BEGIN:STANDARD
TZOFFSETFROM:+0200
TZOFFSETTO:+0100
TZNAME:CET
DTSTART:20241027T010000
END:STANDARD
END:VTIMEZONE
BEGIN:VEVENT
DTSTART;VALUE=DATE:20240214
DTEND;VALUE=DATE:20240215
DTSTAMP:20260424T084837
CREATED:20240115T163728Z
LAST-MODIFIED:20240115T164239Z
UID:10920-1707868800-1707955199@cms.ggs-erkrath.de
SUMMARY:ganztägige Fortbildung des Kollegiums
DESCRIPTION:OGS Abfrage bzgl. Betreuung läuft über OGS Ordner \n
URL:https://cms.ggs-erkrath.de/event/ganztaegige-fortbildung-des-kollegiums/
END:VEVENT
END:VCALENDAR