BEGIN:VCALENDAR
VERSION:2.0
PRODID:-//GGS Erkrath - ECPv4.9.8//NONSGML v1.0//EN
CALSCALE:GREGORIAN
METHOD:PUBLISH
X-WR-CALNAME:GGS Erkrath
X-ORIGINAL-URL:https://cms.ggs-erkrath.de
X-WR-CALDESC:Veranstaltungen im GGS Erkrath
BEGIN:VTIMEZONE
TZID:Europe/Berlin
BEGIN:DAYLIGHT
TZOFFSETFROM:+0100
TZOFFSETTO:+0200
TZNAME:CEST
DTSTART:20200329T010000
END:DAYLIGHT
BEGIN:STANDARD
TZOFFSETFROM:+0200
TZOFFSETTO:+0100
TZNAME:CET
DTSTART:20201025T010000
END:STANDARD
END:VTIMEZONE
BEGIN:VEVENT
DTSTART;VALUE=DATE:20200226
DTEND;VALUE=DATE:20200227
DTSTAMP:20260422T163955
CREATED:20180915T161937Z
LAST-MODIFIED:20190922T185300Z
UID:8520-1582675200-1582761599@cms.ggs-erkrath.de
SUMMARY:Ganztägige Lehrerfortbildung
DESCRIPTION:\nEs findet kein Unterricht (beide Standorte) statt. \nOGS (beide Standorte) findet statt\nBetreuung (Falkenstraße – Notgruppe!) nach Anmeldung \n\n
URL:https://cms.ggs-erkrath.de/event/ganztaegige-lehrerfortbildung-2/
END:VEVENT
END:VCALENDAR