BEGIN:VCALENDAR
VERSION:2.0
PRODID:-//GGS Erkrath - ECPv4.9.8//NONSGML v1.0//EN
CALSCALE:GREGORIAN
METHOD:PUBLISH
X-WR-CALNAME:GGS Erkrath
X-ORIGINAL-URL:https://cms.ggs-erkrath.de
X-WR-CALDESC:Veranstaltungen im GGS Erkrath
BEGIN:VTIMEZONE
TZID:Europe/Berlin
BEGIN:DAYLIGHT
TZOFFSETFROM:+0100
TZOFFSETTO:+0200
TZNAME:CEST
DTSTART:20210328T010000
END:DAYLIGHT
BEGIN:STANDARD
TZOFFSETFROM:+0200
TZOFFSETTO:+0100
TZNAME:CET
DTSTART:20211031T010000
END:STANDARD
END:VTIMEZONE
BEGIN:VEVENT
DTSTART;VALUE=DATE:20211102
DTEND;VALUE=DATE:20211103
DTSTAMP:20260422T181203
CREATED:20211029T151806Z
LAST-MODIFIED:20211029T151806Z
UID:10091-1635811200-1635897599@cms.ggs-erkrath.de
SUMMARY:Ganztagsfortbildung Kollegium
DESCRIPTION:Selbstlerntag für die SchülerInnen zu Hause oder nach Anmeldung in der OGS. \n
URL:https://cms.ggs-erkrath.de/event/ganztagsfortbildung-kollegium/
END:VEVENT
END:VCALENDAR