BEGIN:VCALENDAR
VERSION:2.0
PRODID:-//GGS Erkrath - ECPv4.9.8//NONSGML v1.0//EN
CALSCALE:GREGORIAN
METHOD:PUBLISH
X-WR-CALNAME:GGS Erkrath
X-ORIGINAL-URL:https://cms.ggs-erkrath.de
X-WR-CALDESC:Veranstaltungen im GGS Erkrath
BEGIN:VTIMEZONE
TZID:Europe/Berlin
BEGIN:DAYLIGHT
TZOFFSETFROM:+0100
TZOFFSETTO:+0200
TZNAME:CEST
DTSTART:20210328T010000
END:DAYLIGHT
BEGIN:STANDARD
TZOFFSETFROM:+0200
TZOFFSETTO:+0100
TZNAME:CET
DTSTART:20211031T010000
END:STANDARD
END:VTIMEZONE
BEGIN:VEVENT
DTSTART;TZID="Europe/Berlin":20211011T080000
DTEND;TZID="Europe/Berlin":20211022T170000
DTSTAMP:20260422T183108
CREATED:20210906T110205Z
LAST-MODIFIED:20210906T110205Z
UID:9944-1633939200-1634922000@cms.ggs-erkrath.de
SUMMARY:Herbstferien
DESCRIPTION:
URL:https://cms.ggs-erkrath.de/event/herbstferien/
END:VEVENT
END:VCALENDAR