BEGIN:VCALENDAR
VERSION:2.0
PRODID:-//GGS Erkrath - ECPv4.9.8//NONSGML v1.0//EN
CALSCALE:GREGORIAN
METHOD:PUBLISH
X-WR-CALNAME:GGS Erkrath
X-ORIGINAL-URL:https://cms.ggs-erkrath.de
X-WR-CALDESC:Veranstaltungen im GGS Erkrath
BEGIN:VTIMEZONE
TZID:Europe/Berlin
BEGIN:DAYLIGHT
TZOFFSETFROM:+0100
TZOFFSETTO:+0200
TZNAME:CEST
DTSTART:20190331T010000
END:DAYLIGHT
BEGIN:STANDARD
TZOFFSETFROM:+0200
TZOFFSETTO:+0100
TZNAME:CET
DTSTART:20191027T010000
END:STANDARD
END:VTIMEZONE
BEGIN:VEVENT
DTSTART;VALUE=DATE:20191203
DTEND;VALUE=DATE:20191214
DTSTAMP:20260422T090807
CREATED:20180915T160057Z
LAST-MODIFIED:20190922T175523Z
UID:8494-1575331200-1576281599@cms.ggs-erkrath.de
SUMMARY:Individuelle Beratungsgespräche Eltern Klasse 4
DESCRIPTION:Termine nur nach Vereinbarung! \n
URL:https://cms.ggs-erkrath.de/event/individuelle-beratungsgespraeche-eltern-klasse-4/
END:VEVENT
END:VCALENDAR