BEGIN:VCALENDAR
VERSION:2.0
PRODID:-//GGS Erkrath - ECPv4.9.8//NONSGML v1.0//EN
CALSCALE:GREGORIAN
METHOD:PUBLISH
X-WR-CALNAME:GGS Erkrath
X-ORIGINAL-URL:https://cms.ggs-erkrath.de
X-WR-CALDESC:Veranstaltungen im GGS Erkrath
BEGIN:VTIMEZONE
TZID:Europe/Berlin
BEGIN:DAYLIGHT
TZOFFSETFROM:+0100
TZOFFSETTO:+0200
TZNAME:CEST
DTSTART:20240331T010000
END:DAYLIGHT
BEGIN:STANDARD
TZOFFSETFROM:+0200
TZOFFSETTO:+0100
TZNAME:CET
DTSTART:20241027T010000
END:STANDARD
END:VTIMEZONE
BEGIN:VEVENT
DTSTART;TZID="Europe/Berlin":20240918T190000
DTEND;TZID="Europe/Berlin":20240918T200000
DTSTAMP:20260424T101328
CREATED:20240823T063509Z
LAST-MODIFIED:20240823T063522Z
UID:11078-1726686000-1726689600@cms.ggs-erkrath.de
SUMMARY:Infoabend für Schulneulinge 25_26
DESCRIPTION:Der Infoabend für die Schulneulinge für das Schuljahr 24_25 findet am Hauptstandort Falkenstraße für beide Standorte statt. \n
URL:https://cms.ggs-erkrath.de/event/infoabend-fuer-schulneulinge-25_26/
LOCATION:Hauptstandort Falkenstrasse\, Falkenstrasse 35\, Erkrath\, 40699\, Deutschland
END:VEVENT
END:VCALENDAR