BEGIN:VCALENDAR
VERSION:2.0
PRODID:-//GGS Erkrath - ECPv4.9.8//NONSGML v1.0//EN
CALSCALE:GREGORIAN
METHOD:PUBLISH
X-WR-CALNAME:GGS Erkrath
X-ORIGINAL-URL:https://cms.ggs-erkrath.de
X-WR-CALDESC:Veranstaltungen im GGS Erkrath
BEGIN:VTIMEZONE
TZID:Europe/Berlin
BEGIN:DAYLIGHT
TZOFFSETFROM:+0100
TZOFFSETTO:+0200
TZNAME:CEST
DTSTART:20240331T010000
END:DAYLIGHT
BEGIN:STANDARD
TZOFFSETFROM:+0200
TZOFFSETTO:+0100
TZNAME:CET
DTSTART:20241027T010000
END:STANDARD
END:VTIMEZONE
BEGIN:VEVENT
DTSTART;VALUE=DATE:20240606
DTEND;VALUE=DATE:20240607
DTSTAMP:20260422T121148
CREATED:20240430T064351Z
LAST-MODIFIED:20240503T153421Z
UID:10972-1717632000-1717718399@cms.ggs-erkrath.de
SUMMARY:Informationsabend für die neuen Erstklässler
DESCRIPTION:Der Infoabend für die Schulneulinge 2024/25 findet für beide Standorte getrennt statt. \nFalkenstraße: \n\n19:00 Uhr Aula Infoabend der Schule\n20:00 Uhr Aula Info OGS Falkenstraße\nEnde ca. 21:00 Uhr\n\n  \nDüsselstraße: \n\n19:00 Uhr zukünftiger Klassenraum 1. Etage\, Infoabend der Schule\n20:00 Uhr zukünftiger Klassenraum 1. Etage\, Infoabend der OGS Düsselstraße (Interaktiv)\nEnde ca. 21:00 Uhr\n\n  \n
URL:https://cms.ggs-erkrath.de/event/informationsabend-fuer-die-neuen-erstklaessler/
END:VEVENT
END:VCALENDAR