BEGIN:VCALENDAR
VERSION:2.0
PRODID:-//GGS Erkrath - ECPv4.9.8//NONSGML v1.0//EN
CALSCALE:GREGORIAN
METHOD:PUBLISH
X-WR-CALNAME:GGS Erkrath
X-ORIGINAL-URL:https://cms.ggs-erkrath.de
X-WR-CALDESC:Veranstaltungen im GGS Erkrath
BEGIN:VTIMEZONE
TZID:Europe/Berlin
BEGIN:DAYLIGHT
TZOFFSETFROM:+0100
TZOFFSETTO:+0200
TZNAME:CEST
DTSTART:20230326T010000
END:DAYLIGHT
BEGIN:STANDARD
TZOFFSETFROM:+0200
TZOFFSETTO:+0100
TZNAME:CET
DTSTART:20231029T010000
END:STANDARD
END:VTIMEZONE
BEGIN:VEVENT
DTSTART;TZID="Europe/Berlin":20230207T190000
DTEND;TZID="Europe/Berlin":20230207T213000
DTSTAMP:20260422T090535
CREATED:20230125T082514Z
LAST-MODIFIED:20230125T082514Z
UID:10526-1675796400-1675805400@cms.ggs-erkrath.de
SUMMARY:Klassenpflegschaftsabend Klasse 2A (Dü)
DESCRIPTION:
URL:https://cms.ggs-erkrath.de/event/klassenpflegschaftsabend-klasse-2a-due/
LOCATION:Teilstandort Düsselstrasse\, Düsselstrasse 27\, Erkrath\, 40699\, Deutschland
END:VEVENT
END:VCALENDAR