BEGIN:VCALENDAR
VERSION:2.0
PRODID:-//GGS Erkrath - ECPv4.9.8//NONSGML v1.0//EN
CALSCALE:GREGORIAN
METHOD:PUBLISH
X-WR-CALNAME:GGS Erkrath
X-ORIGINAL-URL:https://cms.ggs-erkrath.de
X-WR-CALDESC:Veranstaltungen im GGS Erkrath
BEGIN:VTIMEZONE
TZID:Europe/Berlin
BEGIN:DAYLIGHT
TZOFFSETFROM:+0100
TZOFFSETTO:+0200
TZNAME:CEST
DTSTART:20230326T010000
END:DAYLIGHT
BEGIN:STANDARD
TZOFFSETFROM:+0200
TZOFFSETTO:+0100
TZNAME:CET
DTSTART:20231029T010000
END:STANDARD
END:VTIMEZONE
BEGIN:VEVENT
DTSTART;TZID="Europe/Berlin":20230823T190000
DTEND;TZID="Europe/Berlin":20230823T210000
DTSTAMP:20260424T084320
CREATED:20230821T140458Z
LAST-MODIFIED:20230821T140521Z
UID:10806-1692817200-1692824400@cms.ggs-erkrath.de
SUMMARY:Klassenpflegschaftssitzung M1-3e
DESCRIPTION:
URL:https://cms.ggs-erkrath.de/event/klassenpflegschaftssitzung-m1-3e/
LOCATION:Hauptstandort Falkenstrasse\, Falkenstrasse 35\, Erkrath\, 40699\, Deutschland
END:VEVENT
END:VCALENDAR