BEGIN:VCALENDAR
VERSION:2.0
PRODID:-//GGS Erkrath - ECPv4.9.8//NONSGML v1.0//EN
CALSCALE:GREGORIAN
METHOD:PUBLISH
X-WR-CALNAME:GGS Erkrath
X-ORIGINAL-URL:https://cms.ggs-erkrath.de
X-WR-CALDESC:Veranstaltungen im GGS Erkrath
BEGIN:VTIMEZONE
TZID:Europe/Berlin
BEGIN:DAYLIGHT
TZOFFSETFROM:+0100
TZOFFSETTO:+0200
TZNAME:CEST
DTSTART:20190331T010000
END:DAYLIGHT
BEGIN:STANDARD
TZOFFSETFROM:+0200
TZOFFSETTO:+0100
TZNAME:CET
DTSTART:20191027T010000
END:STANDARD
END:VTIMEZONE
BEGIN:VEVENT
DTSTART;TZID="Europe/Berlin":20191108T170000
DTEND;TZID="Europe/Berlin":20191108T190000
DTSTAMP:20260424T114226
CREATED:20180915T154645Z
LAST-MODIFIED:20190922T174348Z
UID:8478-1573232400-1573239600@cms.ggs-erkrath.de
SUMMARY:Martinszug Düsselstraße
DESCRIPTION:Der Martinszug startet auf dem Schulhof der Düsselstraße und zieht dann mit dem großen Martinszug der Ercroder Jonges e. V. über die Bismarckstraße und die Bahnstraße zum Barvierplatz. \n
URL:https://cms.ggs-erkrath.de/event/martinszug-duesselstrasse/
END:VEVENT
END:VCALENDAR