BEGIN:VCALENDAR
VERSION:2.0
PRODID:-//GGS Erkrath - ECPv4.9.8//NONSGML v1.0//EN
CALSCALE:GREGORIAN
METHOD:PUBLISH
X-WR-CALNAME:GGS Erkrath
X-ORIGINAL-URL:https://cms.ggs-erkrath.de
X-WR-CALDESC:Veranstaltungen im GGS Erkrath
BEGIN:VTIMEZONE
TZID:Europe/Berlin
BEGIN:DAYLIGHT
TZOFFSETFROM:+0100
TZOFFSETTO:+0200
TZNAME:CEST
DTSTART:20190331T010000
END:DAYLIGHT
BEGIN:STANDARD
TZOFFSETFROM:+0200
TZOFFSETTO:+0100
TZNAME:CET
DTSTART:20191027T010000
END:STANDARD
END:VTIMEZONE
BEGIN:VEVENT
DTSTART;TZID="Europe/Berlin":20191119T084500
DTEND;TZID="Europe/Berlin":20191119T093000
DTSTAMP:20260422T121046
CREATED:20180915T155421Z
LAST-MODIFIED:20190922T192018Z
UID:8486-1574153100-1574155800@cms.ggs-erkrath.de
SUMMARY:NEIN-Tonne Falkenstraße
DESCRIPTION:Präventionsprogramm Klasse 1 \nTheaterstück \n
URL:https://cms.ggs-erkrath.de/event/nein-tonne-falkenstrasse/
END:VEVENT
END:VCALENDAR