BEGIN:VCALENDAR
VERSION:2.0
PRODID:-//GGS Erkrath - ECPv4.9.8//NONSGML v1.0//EN
CALSCALE:GREGORIAN
METHOD:PUBLISH
X-WR-CALNAME:GGS Erkrath
X-ORIGINAL-URL:https://cms.ggs-erkrath.de
X-WR-CALDESC:Veranstaltungen im GGS Erkrath
BEGIN:VTIMEZONE
TZID:Europe/Berlin
BEGIN:DAYLIGHT
TZOFFSETFROM:+0100
TZOFFSETTO:+0200
TZNAME:CEST
DTSTART:20220327T010000
END:DAYLIGHT
BEGIN:STANDARD
TZOFFSETFROM:+0200
TZOFFSETTO:+0100
TZNAME:CET
DTSTART:20221030T010000
END:STANDARD
END:VTIMEZONE
BEGIN:VEVENT
DTSTART;TZID="Europe/Berlin":20220228T000000
DTEND;TZID="Europe/Berlin":20220228T000000
DTSTAMP:20260422T115953
CREATED:20210906T110913Z
LAST-MODIFIED:20220129T094835Z
UID:9962-1646006400-1646006400@cms.ggs-erkrath.de
SUMMARY:Rosenmontag - beweglicher Ferientag
DESCRIPTION:Brauchtumstag\, kein Unterricht – keine OGS\, keine Betreuung \n
URL:https://cms.ggs-erkrath.de/event/rosenmontag/
END:VEVENT
END:VCALENDAR