BEGIN:VCALENDAR
VERSION:2.0
PRODID:-//GGS Erkrath - ECPv4.9.8//NONSGML v1.0//EN
CALSCALE:GREGORIAN
METHOD:PUBLISH
X-WR-CALNAME:GGS Erkrath
X-ORIGINAL-URL:https://cms.ggs-erkrath.de
X-WR-CALDESC:Veranstaltungen im GGS Erkrath
BEGIN:VTIMEZONE
TZID:Europe/Berlin
BEGIN:DAYLIGHT
TZOFFSETFROM:+0100
TZOFFSETTO:+0200
TZNAME:CEST
DTSTART:20240331T010000
END:DAYLIGHT
BEGIN:STANDARD
TZOFFSETFROM:+0200
TZOFFSETTO:+0100
TZNAME:CET
DTSTART:20241027T010000
END:STANDARD
END:VTIMEZONE
BEGIN:VEVENT
DTSTART;TZID="Europe/Berlin":20240208T080000
DTEND;TZID="Europe/Berlin":20240208T113000
DTSTAMP:20260422T152615
CREATED:20230614T141119Z
LAST-MODIFIED:20230614T141119Z
UID:10672-1707379200-1707391800@cms.ggs-erkrath.de
SUMMARY:Schul- und klasseninterne Karnevalsfeier
DESCRIPTION:
URL:https://cms.ggs-erkrath.de/event/schul-und-klasseninterne-karnevalsfeier/
END:VEVENT
END:VCALENDAR