BEGIN:VCALENDAR
VERSION:2.0
PRODID:-//GGS Erkrath - ECPv4.9.8//NONSGML v1.0//EN
CALSCALE:GREGORIAN
METHOD:PUBLISH
X-WR-CALNAME:GGS Erkrath
X-ORIGINAL-URL:https://cms.ggs-erkrath.de
X-WR-CALDESC:Veranstaltungen im GGS Erkrath
BEGIN:VTIMEZONE
TZID:Europe/Berlin
BEGIN:DAYLIGHT
TZOFFSETFROM:+0100
TZOFFSETTO:+0200
TZNAME:CEST
DTSTART:20230326T010000
END:DAYLIGHT
BEGIN:STANDARD
TZOFFSETFROM:+0200
TZOFFSETTO:+0100
TZNAME:CET
DTSTART:20231029T010000
END:STANDARD
END:VTIMEZONE
BEGIN:VEVENT
DTSTART;TZID="Europe/Berlin":20230330T183000
DTEND;TZID="Europe/Berlin":20230330T193000
DTSTAMP:20260422T103852
CREATED:20230125T081109Z
LAST-MODIFIED:20230125T081109Z
UID:10497-1680201000-1680204600@cms.ggs-erkrath.de
SUMMARY:Schulpflegschaftssitzung
DESCRIPTION:
URL:https://cms.ggs-erkrath.de/event/schulpflegschaftssitzung-2/
LOCATION:Teilstandort Düsselstrasse\, Düsselstrasse 27\, Erkrath\, 40699\, Deutschland
END:VEVENT
END:VCALENDAR