BEGIN:VCALENDAR
VERSION:2.0
PRODID:-//GGS Erkrath - ECPv4.9.8//NONSGML v1.0//EN
CALSCALE:GREGORIAN
METHOD:PUBLISH
X-WR-CALNAME:GGS Erkrath
X-ORIGINAL-URL:https://cms.ggs-erkrath.de
X-WR-CALDESC:Veranstaltungen im GGS Erkrath
BEGIN:VTIMEZONE
TZID:Europe/Berlin
BEGIN:DAYLIGHT
TZOFFSETFROM:+0100
TZOFFSETTO:+0200
TZNAME:CEST
DTSTART:20210328T010000
END:DAYLIGHT
BEGIN:STANDARD
TZOFFSETFROM:+0200
TZOFFSETTO:+0100
TZNAME:CET
DTSTART:20211031T010000
END:STANDARD
END:VTIMEZONE
BEGIN:VEVENT
DTSTART;TZID="Europe/Berlin":20210916T190000
DTEND;TZID="Europe/Berlin":20210916T213000
DTSTAMP:20260422T090537
CREATED:20210906T105344Z
LAST-MODIFIED:20210906T105344Z
UID:9930-1631818800-1631827800@cms.ggs-erkrath.de
SUMMARY:Schulpflegschaftssitzung\, Standort Falkenstraße
DESCRIPTION:19:00 Uhr \n
URL:https://cms.ggs-erkrath.de/event/schulpflegschaftssitzung-standort-falkenstrasse/
END:VEVENT
END:VCALENDAR