BEGIN:VCALENDAR
VERSION:2.0
PRODID:-//GGS Erkrath - ECPv4.9.8//NONSGML v1.0//EN
CALSCALE:GREGORIAN
METHOD:PUBLISH
X-WR-CALNAME:GGS Erkrath
X-ORIGINAL-URL:https://cms.ggs-erkrath.de
X-WR-CALDESC:Veranstaltungen im GGS Erkrath
BEGIN:VTIMEZONE
TZID:Europe/Berlin
BEGIN:DAYLIGHT
TZOFFSETFROM:+0100
TZOFFSETTO:+0200
TZNAME:CEST
DTSTART:20240331T010000
END:DAYLIGHT
BEGIN:STANDARD
TZOFFSETFROM:+0200
TZOFFSETTO:+0100
TZNAME:CET
DTSTART:20241027T010000
END:STANDARD
END:VTIMEZONE
BEGIN:VEVENT
DTSTART;TZID="Europe/Berlin":20240920T100000
DTEND;TZID="Europe/Berlin":20240920T120000
DTSTAMP:20260424T102628
CREATED:20240823T063614Z
LAST-MODIFIED:20240823T063614Z
UID:11080-1726826400-1726833600@cms.ggs-erkrath.de
SUMMARY:Tag der offenen Tür - Standort Falkenstraße
DESCRIPTION:
URL:https://cms.ggs-erkrath.de/event/tag-der-offenen-tuer-standort-falkenstrasse-2/
LOCATION:Hauptstandort Falkenstrasse\, Falkenstrasse 35\, Erkrath\, 40699\, Deutschland
END:VEVENT
END:VCALENDAR