BEGIN:VCALENDAR
VERSION:2.0
PRODID:-//GGS Erkrath - ECPv4.9.8//NONSGML v1.0//EN
CALSCALE:GREGORIAN
METHOD:PUBLISH
X-WR-CALNAME:GGS Erkrath
X-ORIGINAL-URL:https://cms.ggs-erkrath.de
X-WR-CALDESC:Veranstaltungen im GGS Erkrath
BEGIN:VTIMEZONE
TZID:Europe/Berlin
BEGIN:DAYLIGHT
TZOFFSETFROM:+0100
TZOFFSETTO:+0200
TZNAME:CEST
DTSTART:20230326T010000
END:DAYLIGHT
BEGIN:STANDARD
TZOFFSETFROM:+0200
TZOFFSETTO:+0100
TZNAME:CET
DTSTART:20231029T010000
END:STANDARD
END:VTIMEZONE
BEGIN:VEVENT
DTSTART;VALUE=DATE:20230510
DTEND;VALUE=DATE:20230511
DTSTAMP:20260422T182259
CREATED:20230418T140941Z
LAST-MODIFIED:20230418T140941Z
UID:10595-1683676800-1683763199@cms.ggs-erkrath.de
SUMMARY:VERA 3 - Mathematik
DESCRIPTION:
URL:https://cms.ggs-erkrath.de/event/vera-3-mathematik/
END:VEVENT
END:VCALENDAR